BEGIN:VCALENDAR
VERSION:2.0
PRODID:-//Tukios.com/
BEGIN:VEVENT
UID:b730fecd-b878-4147-a0cf-963904d085a7@www.oakcrestwaco.com
DTSTAMP:20260419T170429Z
DTSTART:20260416T220000Z
DTEND:20260417T000000Z
SUMMARY:Visitation
DESCRIPTION:
URL:https://www.oakcrestwaco.com/obituaries/john-richard-jones
LOCATION: 4520 Bosque Blvd  Waco TX 76710
GEO:31.5365593;-97.1840327
END:VEVENT
END:VCALENDAR